BEGIN:VCALENDAR
VERSION:2.0
PRODID:-//eventon.com NONSGML v1.0//EN
CALSCALE:GREGORIAN
METHOD:PUBLISH
BEGIN:VEVENT
UID:69e7561d75b7d
DTSTAMP:20260421T104901Z
DTSTART:20220508T160000Z
DTEND:20220508T230000Z
LOCATION:Richmond Sandman Signature Vancouver Airport Hotel & Resort - 10251 St. Edwards Dr\,  Richmond\,  British Columbia V6X2M9
SUMMARY:Pop-Up Wedding Dress Sale Richmond
DESCRIPTION:Opportunity Bridal is pleased to present: Our venue The Sandma
 n Signature hotel is offering free parking to our attendees on this day! 1 
 Day only pop up Bridal Sale selling only New Wedding Dresses and accessorie
 s (veils\,  belts\,  tiaras\,  etc) for the bride. Up to 90% off the MSRP. 
 Over 600+[..]\nhttps://opportunitybridal.com/event/pop-up-wedding-dress-sal
 e-richmond-050822/
URL:https://opportunitybridal.com/event/pop-up-wedding-dress-sale-richmond-050822/
END:VEVENT
END:VCALENDAR