BEGIN:VCALENDAR
VERSION:2.0
PRODID:-//eventon.com NONSGML v1.0//EN
CALSCALE:GREGORIAN
METHOD:PUBLISH
BEGIN:VEVENT
UID:69e7580840bb1
DTSTAMP:20260421T105712Z
DTSTART:20220911T150000Z
DTEND:20220911T220000Z
LOCATION:Edmonton Royal Hotel – West Edmonton -10010 178 Street Edmonton\,  AB T5S 1T3
SUMMARY:Pop-Up Wedding Dress Sale Edmonton
DESCRIPTION:Opportunity Bridal&nbsp;is pleased to present: 1 Day only pop u
 p Bridal Sale selling only New Wedding Dresses and accessories (veils\,  be
 lts\,  tiaras\,  etc) for the bride. Up to 90% off the MSRP. Over 600+ Desi
 gner Wedding Gowns from size 2-28. All priced between $399 – $1199. ADMIS
 SION IS ALWAYS FREE\, [..]\nhttps://opportunitybridal.com/event/pop-up-wedd
 ing-dress-sale-edmonton-091122/
URL:https://opportunitybridal.com/event/pop-up-wedding-dress-sale-edmonton-091122/
END:VEVENT
END:VCALENDAR