BEGIN:VCALENDAR
VERSION:2.0
PRODID:-//eventon.com NONSGML v1.0//EN
CALSCALE:GREGORIAN
METHOD:PUBLISH
BEGIN:VEVENT
UID:69e9433575c3d
DTSTAMP:20260422T215253Z
DTSTART:20230114T140000Z
DTEND:20230114T210000Z
LOCATION:Guelph The Grand Banquet The Grand Guelph Banquet Centre- 340 Woodlawn Rd W #26\,  Guelph\,  ON N1H 7K6
SUMMARY:Pop-Up Wedding Dress Sale Guelph
DESCRIPTION:Opportunity Bridal is pleased to present: 1 Day only pop up Br
 idal Sale selling only New Wedding Dresses and accessories (veils\,  belts\
 ,  tiaras\,  etc) for the bride. Up to 50-80% off the MSRP. Over 600+ Desig
 ner Wedding Gowns from size 2-28. All priced between $399 – $1199. ADMISS
 ION IS ALWAYS FREE\, [..]\nhttps://opportunitybridal.com/event/pop-up-weddi
 ng-dress-sale-guelph-011423/
URL:https://opportunitybridal.com/event/pop-up-wedding-dress-sale-guelph-011423/
END:VEVENT
END:VCALENDAR