BEGIN:VCALENDAR
VERSION:2.0
PRODID:-//eventon.com NONSGML v1.0//EN
CALSCALE:GREGORIAN
METHOD:PUBLISH
BEGIN:VEVENT
UID:69e93eca95e24
DTSTAMP:20260422T213402Z
DTSTART:20230121T140000Z
DTEND:20230121T210000Z
LOCATION:Kingston- Quality Inn Quality Inn hotel and Conference- 33 Benson Street\,  Kingston\,  ON\,  K7K 5W2
SUMMARY:Pop-Up Wedding Dress Sale Kingston
DESCRIPTION:Opportunity Bridal&nbsp;is pleased to present: 1 Day only pop u
 p Bridal Sale selling only New Wedding Dresses and accessories (veils\,  be
 lts\,  tiaras\,  etc) for the bride. Up to 50-80% off the MSRP. Over 600+ D
 esigner Wedding Gowns from size 2-28. All priced between $399 – $1199. AD
 MISSION IS ALWAYS FREE\, [..]\nhttps://opportunitybridal.com/event/pop-up-w
 edding-dress-sale-kingston-012123/
URL:https://opportunitybridal.com/event/pop-up-wedding-dress-sale-kingston-012123/
END:VEVENT
END:VCALENDAR