BEGIN:VCALENDAR
VERSION:2.0
PRODID:-//eventon.com NONSGML v1.0//EN
CALSCALE:GREGORIAN
METHOD:PUBLISH
BEGIN:VEVENT
UID:69e93f2f4d021
DTSTAMP:20260422T213543Z
DTSTART:20230122T140000Z
DTEND:20230122T210000Z
LOCATION:Hamilton Courtyard Marriott - 1224 Upper James St1224 Upper James St\,  Hamilton\,  ON L9C 3B1
SUMMARY:Pop-Up Wedding Dress Sale Hamilton
DESCRIPTION:Opportunity Bridal&nbsp;is pleased to present: Due to circumsta
 nces out of our control we have just found out that our venue in Burlington
  will be unable to host us on Sunday January 22nd. We were very much lookin
 g forward to hosting our event in Burlington and will look to come back[..]
 \nhttps://opportunitybridal.com/event/pop-up-wedding-dress-sale-hamilton-01
 2223/
URL:https://opportunitybridal.com/event/pop-up-wedding-dress-sale-hamilton-012223/
END:VEVENT
END:VCALENDAR