BEGIN:VCALENDAR
VERSION:2.0
PRODID:-//eventon.com NONSGML v1.0//EN
CALSCALE:GREGORIAN
METHOD:PUBLISH
BEGIN:VEVENT
UID:69e94066c2de2
DTSTAMP:20260422T214054Z
DTSTART:20230115T140000Z
DTEND:20230115T210000Z
LOCATION:Niagara Falls DoubleTree DoubleTree Fallsview Resort & Spa by Hilton - 6039 Fallsview Blvd\,  Niagara Falls\,  ON\,  L2G 3V6
SUMMARY:Pop-Up Wedding Dress Sale Niagara Falls
DESCRIPTION:Opportunity Bridal&nbsp;is pleased to present: 1 Day only pop u
 p Bridal Sale selling only New Wedding Dresses and accessories (veils\,  be
 lts\,  tiaras\,  etc) for the bride. Up to 50-80% off the MSRP. Over 600+ D
 esigner Wedding Gowns from size 2-28. All priced between $399 – $1199. AD
 MISSION IS ALWAYS FREE\, [..]\nhttps://opportunitybridal.com/event/pop-up-w
 edding-dress-sale-niagara-falls-011523/
URL:https://opportunitybridal.com/event/pop-up-wedding-dress-sale-niagara-falls-011523/
END:VEVENT
END:VCALENDAR