BEGIN:VCALENDAR
VERSION:2.0
PRODID:-//eventon.com NONSGML v1.0//EN
CALSCALE:GREGORIAN
METHOD:PUBLISH
BEGIN:VEVENT
UID:69e9448a90523
DTSTAMP:20260422T215834Z
DTSTART:20230129T140000Z
DTEND:20230129T210000Z
LOCATION:Mississauga Holiday Inn Holiday Inn Toronto Airport- 600 Dixon Rd\,  Toronto\,  On\,  M9W 1J1
SUMMARY:Pop-Up Wedding Dress Sale Mississauga
DESCRIPTION:Opportunity Bridal&nbsp;is pleased to present: 1 Day only pop u
 p Bridal Sale selling only New Wedding Dresses and accessories (veils\,  be
 lts\,  tiaras\,  etc) for the bride. Up to 50-80% off the MSRP. Over 600+ D
 esigner Wedding Gowns from size 2-28. All priced between $399 – $1199. AD
 MISSION IS ALWAYS FREE\, [..]\nhttps://opportunitybridal.com/event/pop-up-w
 edding-dress-sale-mississauga-012923/
URL:https://opportunitybridal.com/event/pop-up-wedding-dress-sale-mississauga-012923/
END:VEVENT
END:VCALENDAR