BEGIN:VCALENDAR
VERSION:2.0
PRODID:-//eventon.com NONSGML v1.0//EN
CALSCALE:GREGORIAN
METHOD:PUBLISH
BEGIN:VEVENT
UID:69e73a20b5323
DTSTAMP:20260421T084936Z
DTSTART:20230722T130000Z
DTEND:20230722T200000Z
LOCATION:Mississauga Holiday Inn Holiday Inn Toronto Airport- 600 Dixon Rd\,  Toronto\,  On\,  M9W 1J1
SUMMARY:Pop-Up Wedding Dress Sale Mississauga
DESCRIPTION:Opportunity Bridal is pleased to present: 1 Day only pop up Br
 idal Sale selling only New Wedding Dresses and accessories (veils\,  belts\
 ,  tiaras\,  etc) for the bride. Up to 50-80% off the MSRP. Over 600+ Desig
 ner Wedding Gowns from size 2-28. All priced between $399 – $1199. ADMISS
 ION IS ALWAYS FREE\, [..]\nhttps://opportunitybridal.com/event/pop-up-weddi
 ng-dress-sale-mississauga-072223/
URL:https://opportunitybridal.com/event/pop-up-wedding-dress-sale-mississauga-072223/
END:VEVENT
END:VCALENDAR