BEGIN:VCALENDAR
VERSION:2.0
PRODID:-//eventon.com NONSGML v1.0//EN
CALSCALE:GREGORIAN
METHOD:PUBLISH
BEGIN:VEVENT
UID:69e93fb15ed2b
DTSTAMP:20260422T213753Z
DTSTART:20230731T190000Z
DTEND:20230801T010000Z
LOCATION:Trois Rivieres Complexe Laviolette Complexe Laviolette - 2203 Bd des Forges\,  Trois-Rivières\,  QC G8Z 1V1
SUMMARY:Vente de robes de mariée Trois-Rivières
DESCRIPTION:Opportunity Bridal est heureux de présenter: Vente de robes de
  mariée d’un jour seulement\,  avec uniquement des robes de mariée neuv
 es et des accessoires (voiles\,  ceintures\,  diadèmes\,  etc.) pour la ma
 riée. Jusqu’à 50-80% de réduction sur le PDSF. Plus de 600 robes de ma
 riée de créateurs\,  de taille 2 à[..]\nhttps://opportunitybridal.com/ev
 ent/vente-de-robes-de-mariee-trois-rivieres-073123/
URL:https://opportunitybridal.com/event/vente-de-robes-de-mariee-trois-rivieres-073123/
END:VEVENT
END:VCALENDAR