BEGIN:VCALENDAR
VERSION:2.0
PRODID:-//eventon.com NONSGML v1.0//EN
CALSCALE:GREGORIAN
METHOD:PUBLISH
BEGIN:VEVENT
UID:69e93ee7d86ff
DTSTAMP:20260422T213431Z
DTSTART:20231001T150000Z
DTEND:20231001T220000Z
LOCATION:Regina Evraz Place - Queensbury building - Meeting room 3 - 1700 Elphinstone St.\,  Regina\,  SK S4P 2Z6
SUMMARY:Pop-Up Wedding Dress Sale Regina
DESCRIPTION:Opportunity Bridal is pleased to present: 1 Day only pop up Br
 idal Sale selling only New Wedding Dresses and accessories (veils\,  belts\
 ,  tiaras\,  etc) for the bride. Up to 50-80% off the MSRP. Over 600+ Desig
 ner Wedding Gowns from size 2-28. All priced between $399 – $1199. ADMISS
 ION IS ALWAYS FREE\, [..]\nhttps://opportunitybridal.com/event/pop-up-weddi
 ng-dress-sale-regina-100123/
URL:https://opportunitybridal.com/event/pop-up-wedding-dress-sale-regina-100123/
END:VEVENT
END:VCALENDAR