BEGIN:VCALENDAR
VERSION:2.0
PRODID:-//eventon.com NONSGML v1.0//EN
CALSCALE:GREGORIAN
METHOD:PUBLISH
BEGIN:VEVENT
UID:69e756afd49c6
DTSTAMP:20260421T105127Z
DTSTART:20231202T140000Z
DTEND:20231202T210000Z
LOCATION:Sarnia Four Points by Sheraton Hotel and Conference Centre - 1498 Venetian Boulevard\,  Sarnia\,  ON N7T 7W6
SUMMARY:Pop-Up Wedding Dress Sale Sarnia
DESCRIPTION:Opportunity Bridal&nbsp;is pleased to present: 1 Day only pop u
 p Bridal Sale selling only New Wedding Dresses and accessories (veils\,  be
 lts\,  tiaras\,  etc) for the bride. Up to 50-80% off the MSRP. Over 600+ D
 esigner Wedding Gowns from size 2-28. All priced between $399 – $1199. AD
 MISSION IS ALWAYS FREE\, [..]\nhttps://opportunitybridal.com/event/pop-up-w
 edding-dress-sale-sarnia-120223/
URL:https://opportunitybridal.com/event/pop-up-wedding-dress-sale-sarnia-120223/
END:VEVENT
END:VCALENDAR