BEGIN:VCALENDAR
VERSION:2.0
PRODID:-//eventon.com NONSGML v1.0//EN
CALSCALE:GREGORIAN
METHOD:PUBLISH
BEGIN:VEVENT
UID:69e76cc118488
DTSTAMP:20260421T122537Z
DTSTART:20260523T130000Z
DTEND:20260523T200000Z
LOCATION:Mississauga Holiday Inn Holiday Inn Toronto Airport- 600 Dixon Rd\,  Toronto\,  On\,  M9W 1J1
SUMMARY:Pop-Up Wedding Dress Sale Mississauga
DESCRIPTION:Opportunity Bridal is pleased to present: 1 Day only pop up Br
 idal Sale selling only New Wedding Dresses and accessories (veils\,  belts\
 ,  tiaras\,  etc) for the bride. Up to 80% off the MSRP. Over 600+ Designer
  Wedding Gowns from size 2-28. All priced between $399 – $1299. ADMISSION
  IS ALWAYS FREE\, [..]\nhttps://opportunitybridal.com/event/pop-up-wedding-
 dress-sale-mississauga/
URL:https://opportunitybridal.com/event/pop-up-wedding-dress-sale-mississauga/
END:VEVENT
END:VCALENDAR