BEGIN:VCALENDAR
VERSION:2.0
PRODID:-//eventon.com NONSGML v1.0//EN
CALSCALE:GREGORIAN
METHOD:PUBLISH
BEGIN:VEVENT
UID:69e641278eb6d
DTSTAMP:20260420T150719Z
DTSTART:20260412T130000Z
DTEND:20260412T200000Z
LOCATION:Montecassino hotel and event venue North York Montecassino hotel & event venue - 3710 Chesswood Dr Suite 220\,  North York\,  ON M3J 2W4
SUMMARY:Pop-Up Wedding Dress Sale North York
DESCRIPTION:Opportunity Bridal is pleased to present: 1 Day only pop up Br
 idal Sale selling only New Wedding Dresses and accessories (veils\,  belts\
 ,  tiaras\,  etc) for the bride. Up to 80% off the MSRP. Over 600+ Designer
  Wedding Gowns from size 2-28. All priced between $399 – $1299. ADMISSION
  IS ALWAYS FREE\, [..]\nhttps://opportunitybridal.com/event/pop-up-wedding-
 dress-sale-north-york/
URL:https://opportunitybridal.com/event/pop-up-wedding-dress-sale-north-york/
END:VEVENT
END:VCALENDAR