BEGIN:VCALENDAR
VERSION:2.0
PRODID:-//eventon.com NONSGML v1.0//EN
CALSCALE:GREGORIAN
METHOD:PUBLISH
BEGIN:VEVENT
UID:69e4dc088ebb4
DTSTAMP:20260419T134336Z
DTSTART:20260730T180000Z
DTEND:20260731T000000Z
LOCATION:Fredericton Inn Fredericton Inn - 1315 Regent St\,  Fredericton\,  NB E3C 1A1
SUMMARY:Pop-Up Wedding Dress Sale Fredericton
DESCRIPTION:Opportunity Bridal is pleased to present: 1 Day only pop up Br
 idal Sale selling only New Wedding Dresses and accessories (veils\,  belts\
 ,  tiaras\,  etc) for the bride. Up to 80% off the MSRP. Over 600+ Designer
  Wedding Gowns from size 2-28. All priced between $399 – $1299. ADMISSION
  IS ALWAYS FREE\, [..]\nhttps://opportunitybridal.com/event/pop-up-wedding-
 dress-sale-fredericton/
URL:https://opportunitybridal.com/event/pop-up-wedding-dress-sale-fredericton/
END:VEVENT
END:VCALENDAR