BEGIN:VCALENDAR
VERSION:2.0
PRODID:-//eventon.com NONSGML v1.0//EN
CALSCALE:GREGORIAN
METHOD:PUBLISH
BEGIN:VEVENT
UID:69eb4a8cda127
DTSTAMP:20260424T104844Z
DTSTART:20260801T120000Z
DTEND:20260801T190000Z
LOCATION:Halifax Atlantica Hotel Halifax - 1980 Robie Street\,  Halifax\,  Nova Scotia B3H 3G5
SUMMARY:Pop-Up Wedding Dress Sale Halifax
DESCRIPTION:Opportunity Bridal is pleased to present: 1 Day only pop up Br
 idal Sale selling only New Wedding Dresses and accessories (veils\,  belts\
 ,  tiaras\,  etc) for the bride. Up to 80% off the MSRP. Over 600+ Designer
  Wedding Gowns from size 2-28. All priced between $399 – $1299. ADMISSION
  IS ALWAYS FREE\, [..]\nhttps://opportunitybridal.com/event/pop-up-wedding-
 dress-sale-halifax/
URL:https://opportunitybridal.com/event/pop-up-wedding-dress-sale-halifax/
END:VEVENT
END:VCALENDAR