BEGIN:VCALENDAR
VERSION:2.0
PRODID:-//eventon.com NONSGML v1.0//EN
CALSCALE:GREGORIAN
METHOD:PUBLISH
BEGIN:VEVENT
UID:69ea354bd8187
DTSTAMP:20260423T150547Z
DTSTART:20260420T190000Z
DTEND:20260421T010000Z
LOCATION:Sault Ste Marie Quattro Hotel and Conference Centre - 229 Great Northern Road\,  Sault Sainte Marie\,  Ontario P6B 4Z2
SUMMARY:Pop-Up Wedding Dress Sale Sault Ste Marie
DESCRIPTION:Opportunity Bridal is pleased to present: 1 Day only pop up Br
 idal Sale selling only New Wedding Dresses and accessories (veils\,  belts\
 ,  tiaras\,  etc) for the bride. Up to 80% off the MSRP. Over 600+ Designer
  Wedding Gowns from size 2-28. All priced between $399 – $1299. ADMISSION
  IS ALWAYS FREE\, [..]\nhttps://opportunitybridal.com/event/pop-up-wedding-
 dress-sale-sault-ste-marie/
URL:https://opportunitybridal.com/event/pop-up-wedding-dress-sale-sault-ste-marie/
END:VEVENT
END:VCALENDAR