BEGIN:VCALENDAR
VERSION:2.0
PRODID:-//eventon.com NONSGML v1.0//EN
CALSCALE:GREGORIAN
METHOD:PUBLISH
BEGIN:VEVENT
UID:69e740b7a4b9d
DTSTAMP:20260421T091743Z
DTSTART:20260517T140000Z
DTEND:20260517T210000Z
LOCATION:Winnipeg Best Western Best Western Plus Winnipeg Airport - 1715 Wellington Ave\,  Winnipeg\,  Manitoba R3H 0G1
SUMMARY:Pop-Up Wedding Dress Sale Winnipeg
DESCRIPTION:Opportunity Bridal is pleased to present: 1 Day only pop up Br
 idal Sale selling only New Wedding Dresses and accessories (veils\,  belts\
 ,  tiaras\,  etc) for the bride. Up to 80% off the MSRP. Over 600+ Designer
  Wedding Gowns from size 2-28. All priced between $399 – $1299. ADMISSION
  IS ALWAYS FREE\, [..]\nhttps://opportunitybridal.com/event/pop-up-wedding-
 dress-sale-winnipeg/
URL:https://opportunitybridal.com/event/pop-up-wedding-dress-sale-winnipeg/
END:VEVENT
END:VCALENDAR