BEGIN:VCALENDAR
VERSION:2.0
PRODID:-//eventon.com NONSGML v1.0//EN
CALSCALE:GREGORIAN
METHOD:PUBLISH
BEGIN:VEVENT
UID:69ea4d10c03ec
DTSTAMP:20260423T164712Z
DTSTART:20260510T150000Z
DTEND:20260510T220000Z
LOCATION:Edmonton Royal Hotel – West Edmonton -10010 178 Street Edmonton\,  AB T5S 1T3
SUMMARY:Pop-Up Wedding Dress Sale Edmonton
DESCRIPTION:Opportunity Bridal is pleased to present: 1 Day only pop up Br
 idal Sale selling only New Wedding Dresses and accessories (veils\,  belts\
 ,  tiaras\,  etc) for the bride. Up to 80% off the MSRP. Over 600+ Designer
  Wedding Gowns from size 2-28. All priced between $399 – $1299. ADMISSION
  IS ALWAYS FREE\, [..]\nhttps://opportunitybridal.com/event/pop-up-wedding-
 dress-sale-edmonton/
URL:https://opportunitybridal.com/event/pop-up-wedding-dress-sale-edmonton/
END:VEVENT
END:VCALENDAR