BEGIN:VCALENDAR
VERSION:2.0
PRODID:-//eventon.com NONSGML v1.0//EN
CALSCALE:GREGORIAN
METHOD:PUBLISH
BEGIN:VEVENT
UID:69ecf6751797c
DTSTAMP:20260425T171429Z
DTSTART:20260428T210000Z
DTEND:20260429T030000Z
LOCATION:Red Deer Quality Inn & Conference Centre Red Deer - 7150 - 50th Avenue\,  Red Deer\,  Alberta T4N 6A5
SUMMARY:Pop-Up Wedding Dress Sale Red Deer
DESCRIPTION:Opportunity Bridal is pleased to present: 1 Day only pop up Br
 idal Sale selling only New Wedding Dresses and accessories (veils\,  belts\
 ,  tiaras\,  etc) for the bride. Up to 80% off the MSRP. Over 600+ Designer
  Wedding Gowns from size 2-28. All priced between $399 – $1299. ADMISSION
  IS ALWAYS FREE\, [..]\nhttps://opportunitybridal.com/event/pop-up-wedding-
 dress-sale-red-deer/
URL:https://opportunitybridal.com/event/pop-up-wedding-dress-sale-red-deer/
END:VEVENT
END:VCALENDAR